BEGIN:VCALENDAR
VERSION:2.0
PRODID:-//Arch Ray Resort - ECPv6.15.20//NONSGML v1.0//EN
CALSCALE:GREGORIAN
METHOD:PUBLISH
X-ORIGINAL-URL:https://archrayresort.com
X-WR-CALDESC:Events for Arch Ray Resort
REFRESH-INTERVAL;VALUE=DURATION:PT1H
X-Robots-Tag:noindex
X-PUBLISHED-TTL:PT1H
BEGIN:VTIMEZONE
TZID:UTC
BEGIN:STANDARD
TZOFFSETFROM:+0000
TZOFFSETTO:+0000
TZNAME:UTC
DTSTART:20250101T000000
END:STANDARD
END:VTIMEZONE
BEGIN:VEVENT
DTSTART;VALUE=DATE:20260307
DTEND;VALUE=DATE:20260308
DTSTAMP:20260426T020558
CREATED:20260225T161703Z
LAST-MODIFIED:20260225T161703Z
UID:5797-1772841600-1772927999@archrayresort.com
SUMMARY:Carriage Rides with Carousel Carriage Company
DESCRIPTION:Join us on March 7th for horse-drawn carriage rides with Carousel Carriage Company.
URL:https://archrayresort.com/event/carriage-rides-with-carousel-carriage-company-2/
CATEGORIES:Resort Events
ATTACH;FMTTYPE=image/png:https://archrayresort.com/wp-content/uploads/2026/02/Untitled-design-10-scaled.png
END:VEVENT
BEGIN:VEVENT
DTSTART;TZID=UTC:20260307T100000
DTEND;TZID=UTC:20260307T140000
DTSTAMP:20260426T020558
CREATED:20260114T195243Z
LAST-MODIFIED:20260114T195243Z
UID:5628-1772877600-1772892000@archrayresort.com
SUMMARY:Open House
DESCRIPTION:Join us for an exciting Open House at Arch Ray Resort. Saturday\, March 7\, 10AM to 2PM. \nMeet the builders\, walk available RV and cabin sites\, view floor plans\, and take a guided shuttle tour around the community.\nWe’ll have light refreshments available and plenty of opportunity to ask questions\, explore\, and get inspired.
URL:https://archrayresort.com/event/open-house/
CATEGORIES:Resort Events
ATTACH;FMTTYPE=image/png:https://archrayresort.com/wp-content/uploads/2026/01/Sales-Ad.png
END:VEVENT
BEGIN:VEVENT
DTSTART;VALUE=DATE:20260308
DTEND;VALUE=DATE:20260309
DTSTAMP:20260426T020558
CREATED:20251203T175309Z
LAST-MODIFIED:20251203T175309Z
UID:5284-1772928000-1773014399@archrayresort.com
SUMMARY:Spring Member Wine Club Party
DESCRIPTION:Details TBD. \nFor more information on our memberships\, click here.
URL:https://archrayresort.com/event/spring-member-wine-club-party/
CATEGORIES:Resort Events
END:VEVENT
BEGIN:VEVENT
DTSTART;VALUE=DATE:20260314
DTEND;VALUE=DATE:20260315
DTSTAMP:20260426T020558
CREATED:20260225T162520Z
LAST-MODIFIED:20260225T162520Z
UID:5799-1773446400-1773532799@archrayresort.com
SUMMARY:Carriage Rides with Carousel Carriage Company
DESCRIPTION:Join us on March 14th for horse-drawn carriage rides with Carousel Carriage Company.
URL:https://archrayresort.com/event/carriage-rides-with-carousel-carriage-company-3/
CATEGORIES:Resort Events
ATTACH;FMTTYPE=image/png:https://archrayresort.com/wp-content/uploads/2026/02/Untitled-design-10-scaled.png
END:VEVENT
BEGIN:VEVENT
DTSTART;TZID=UTC:20260320T170000
DTEND;TZID=UTC:20260320T210000
DTSTAMP:20260426T020558
CREATED:20260225T155058Z
LAST-MODIFIED:20260225T155058Z
UID:5792-1774026000-1774040400@archrayresort.com
SUMMARY:Winter White Christmas Movie Table Read
DESCRIPTION:Join us on March 20th 5-9pm and be a part of the filmmaking process for Fredericksburg’s first Christmas movie. \nPresented by writers Amanda Pfeiffer and Sara Henderson\, this Table Read brings the cast together to read through the script\, bringing the characters and story to life on stage. The community will get a behind-the-scenes experience and a chance to witness the process of filmmaking. \nThis is a free event with food and drink available for purchase. Chairs will not be proved so we encourage you to bring your own! \nPlease RSVP here.
URL:https://archrayresort.com/event/winter-white-christmas-movie-table-read/
CATEGORIES:Live Music,Resort Events
END:VEVENT
END:VCALENDAR