BEGIN:VCALENDAR
VERSION:2.0
PRODID:-//Arch Ray Resort - ECPv6.15.20//NONSGML v1.0//EN
CALSCALE:GREGORIAN
METHOD:PUBLISH
X-WR-CALNAME:Arch Ray Resort
X-ORIGINAL-URL:https://archrayresort.com
X-WR-CALDESC:Events for Arch Ray Resort
REFRESH-INTERVAL;VALUE=DURATION:PT1H
X-Robots-Tag:noindex
X-PUBLISHED-TTL:PT1H
BEGIN:VTIMEZONE
TZID:UTC
BEGIN:STANDARD
TZOFFSETFROM:+0000
TZOFFSETTO:+0000
TZNAME:UTC
DTSTART:20250101T000000
END:STANDARD
END:VTIMEZONE
BEGIN:VEVENT
DTSTART;VALUE=DATE:20260308
DTEND;VALUE=DATE:20260309
DTSTAMP:20260426T033208
CREATED:20251203T175309Z
LAST-MODIFIED:20251203T175309Z
UID:5284-1772928000-1773014399@archrayresort.com
SUMMARY:Spring Member Wine Club Party
DESCRIPTION:Details TBD. \nFor more information on our memberships\, click here.
URL:https://archrayresort.com/event/spring-member-wine-club-party/
CATEGORIES:Resort Events
END:VEVENT
END:VCALENDAR